View In:
ArcGIS JavaScript
ArcGIS Online map viewer
ArcGIS Earth
ArcMap
View Footprint In:
ArcGIS Online map viewer
Service Description: 2015 Peoria County Aerial Imagery - Cached Imagery Service Published 10/25/2017
Name: PeoriaCo/PeoriaSID_2015
Description: 2015 Peoria County Aerial Imagery - Cached Imagery Service Published 10/25/2017
Single Fused Map Cache: true
Tile Info:
- Height: 512
- Width: 512
- DPI: 96
-
Levels of Detail: 12
- Format: MIXED
- Compression Quality: 75.0
- LERC Error: NaN
- Origin: X: -1.61509E7
Y: 1.94954E7
- Spatial Reference: 102672
(3436)
Extent:
XMin: 2342836
YMin: 1395857
XMax: 2499049
YMax: 1572096
Spatial Reference: 102672
(3436)
Initial Extent:
XMin: 2342836
YMin: 1395857
XMax: 2499049
YMax: 1572096
Spatial Reference: 102672
(3436)
Full Extent:
XMin: 2342836
YMin: 1395857
XMax: 2499049
YMax: 1572096
Spatial Reference: 102672
(3436)
Pixel Size X: 0.5
Pixel Size Y: 0.5
Band Count: 3
Pixel Type: U8
RasterFunction Infos: {"rasterFunctionInfos": [{
"name": "None",
"description": "",
"help": ""
}]}
Mensuration Capabilities: Basic
Has Histograms: true
Has Colormap: false
Has Multi Dimensions : false
Rendering Rule:
Min Scale: 240000
Max Scale: 250
Copyright Text:
Service Data Type: esriImageServiceDataTypeRGB
Min Values: 3, 17, 9
Max Values: 255, 255, 255
Mean Values: 155.29228243021, 156.16987610091, 152.93730407524
Standard Deviation Values: 67.166792933683, 66.311469812247, 67.758697088681
Object ID Field:
Fields:
None
Default Mosaic Method: Center
Allowed Mosaic Methods:
SortField:
SortValue: null
Mosaic Operator: First
Default Compression Quality: 75
Default Resampling Method: Bilinear
Max Record Count: null
Max Image Height: 4100
Max Image Width: 15000
Max Download Image Count: null
Max Mosaic Image Count: null
Allow Raster Function: true
Allow Copy: null
Allow Analysis: null
Allow Compute TiePoints: false
Supports Statistics: false
Supports Advanced Queries: false
Use StandardizedQueries: true
Raster Type Infos:
Name: Raster Dataset
Description: Supports all ArcGIS Raster Datasets
Help:
Has Raster Attribute Table: false
Edit Fields Info: null
Ownership Based AccessControl For Rasters: null
Child Resources:
Info
Histograms
Key Properties
Legend
Raster Function Infos
Supported Operations:
Export Image
Identify
Measure
Compute Histograms
Compute Statistics Histograms
Get Samples
Compute Class Statistics
Query Boundary
Compute Pixel Location
Validate
Project