{
 "currentVersion": 10.81,
 "serviceDescription": "2015 Peoria County Aerial Imagery - Cached Imagery Service Published 10/25/2017",
 "name": "PeoriaCo/PeoriaSID_2015",
 "description": "2015 Peoria County Aerial Imagery - Cached Imagery Service Published 10/25/2017",
 "extent": {
  "xmin": 2342836,
  "ymin": 1395857,
  "xmax": 2499049,
  "ymax": 1572096,
  "spatialReference": {
   "wkid": 102672,
   "latestWkid": 3436
  }
 },
 "initialExtent": {
  "xmin": 2342836,
  "ymin": 1395857,
  "xmax": 2499049,
  "ymax": 1572096,
  "spatialReference": {
   "wkid": 102672,
   "latestWkid": 3436
  }
 },
 "fullExtent": {
  "xmin": 2342836,
  "ymin": 1395857,
  "xmax": 2499049,
  "ymax": 1572096,
  "spatialReference": {
   "wkid": 102672,
   "latestWkid": 3436
  }
 },
 "pixelSizeX": 0.5,
 "pixelSizeY": 0.5,
 "bandCount": 3,
 "pixelType": "U8",
 "minPixelSize": 0.21701388888888887,
 "maxPixelSize": 208.33333333333331,
 "copyrightText": "",
 "serviceDataType": "esriImageServiceDataTypeRGB",
 "minValues": [
  3,
  17,
  9
 ],
 "maxValues": [
  255,
  255,
  255
 ],
 "meanValues": [
  155.29228243021,
  156.16987610091,
  152.93730407524
 ],
 "stdvValues": [
  67.166792933683,
  66.311469812247,
  67.758697088681
 ],
 "objectIdField": "",
 "fields": [],
 "capabilities": "Image,Metadata,Mensuration",
 "defaultMosaicMethod": "Center",
 "allowedMosaicMethods": "",
 "sortField": "",
 "sortValue": null,
 "sortAscending": true,
 "mosaicOperator": "First",
 "defaultCompressionQuality": 75,
 "defaultResamplingMethod": "Bilinear",
 "maxImageHeight": 4100,
 "maxImageWidth": 15000,
 "singleFusedMapCache": true,
 "tileInfo": {
  "rows": 512,
  "cols": 512,
  "dpi": 96,
  "format": "MIXED",
  "compressionQuality": 75,
  "origin": {
   "x": -16150900,
   "y": 19495400
  },
  "spatialReference": {
   "wkid": 102672,
   "latestWkid": 3436
  },
  "lods": [
   {
    "level": 0,
    "resolution": 208.33333333333331,
    "scale": 240000
   },
   {
    "level": 1,
    "resolution": 108.50694444444444,
    "scale": 125000
   },
   {
    "level": 2,
    "resolution": 55.55555555555555,
    "scale": 64000
   },
   {
    "level": 3,
    "resolution": 27.777777777777775,
    "scale": 32000
   },
   {
    "level": 4,
    "resolution": 13.888888888888888,
    "scale": 16000
   },
   {
    "level": 5,
    "resolution": 6.944444444444444,
    "scale": 8000
   },
   {
    "level": 6,
    "resolution": 3.472222222222222,
    "scale": 4000
   },
   {
    "level": 7,
    "resolution": 1.736111111111111,
    "scale": 2000
   },
   {
    "level": 8,
    "resolution": 0.8680555555555555,
    "scale": 1000
   },
   {
    "level": 9,
    "resolution": 0.6510416666666666,
    "scale": 750
   },
   {
    "level": 10,
    "resolution": 0.43402777777777773,
    "scale": 500
   },
   {
    "level": 11,
    "resolution": 0.21701388888888887,
    "scale": 250
   }
  ]
 },
 "cacheType": "Map",
 "allowRasterFunction": true,
 "rasterFunctionInfos": [
  {
   "name": "None",
   "description": "",
   "help": ""
  }
 ],
 "rasterTypeInfos": [
  {
   "name": "Raster Dataset",
   "description": "Supports all ArcGIS Raster Datasets",
   "help": ""
  }
 ],
 "mensurationCapabilities": "Basic",
 "hasHistograms": true,
 "hasColormap": false,
 "hasRasterAttributeTable": false,
 "minScale": 240000,
 "maxScale": 250,
 "exportTilesAllowed": false,
 "hasMultidimensions": false,
 "supportsStatistics": false,
 "supportsAdvancedQueries": false,
 "editFieldsInfo": null,
 "ownershipBasedAccessControlForRasters": null,
 "allowComputeTiePoints": false,
 "useStandardizedQueries": true,
 "advancedQueryCapabilities": {
  "useStandardizedQueries": true,
  "supportsStatistics": false,
  "supportsOrderBy": false,
  "supportsDistinct": false,
  "supportsPagination": false
 },
 "spatialReference": {
  "wkid": 102672,
  "latestWkid": 3436
 }
}
